BEGIN:VCALENDAR
VERSION:2.0
PRODID:-//Escuela Superior de Biomagnetismo Médico - ECPv6.15.20//NONSGML v1.0//EN
CALSCALE:GREGORIAN
METHOD:PUBLISH
X-ORIGINAL-URL:http://www.escuelaisaacgoiz.com
X-WR-CALDESC:Eventos para Escuela Superior de Biomagnetismo Médico
REFRESH-INTERVAL;VALUE=DURATION:PT1H
X-Robots-Tag:noindex
X-PUBLISHED-TTL:PT1H
BEGIN:VTIMEZONE
TZID:UTC
BEGIN:STANDARD
TZOFFSETFROM:+0000
TZOFFSETTO:+0000
TZNAME:UTC
DTSTART:20250101T000000
END:STANDARD
END:VTIMEZONE
BEGIN:VEVENT
DTSTART;TZID=UTC:20260201T080000
DTEND;TZID=UTC:20260205T170000
DTSTAMP:20260425T125343
CREATED:20251125T205044Z
LAST-MODIFIED:20260115T175614Z
UID:10219-1769932800-1770310800@www.escuelaisaacgoiz.com
SUMMARY:Curso Par Biomagnético Primer Nivel Isaac Goiz Martínez Perú Febrero 2026
DESCRIPTION:📌 Curso de Par Biomagnético\n¿Qué es el Par Biomagnético?\nEs una técnica terapéutica desarrollada por el Dr. Isaac Goiz Durán. Utiliza imanes en puntos específicos del cuerpo para ayudar a recuperar el equilibrio y bienestar general. Es un método integrativo y no invasivo. \n📘 Detalles del Curso (Primer Nivel)\n📅 Fecha: 1 al 5 de Febrero de 2026.\n👨‍🏫 Instructor: Dr. h.c. Isaac Goiz Martínez.\n🌐 Modalidad: Presencial.\n⏳ Duración: 5 días. \n🕘 Horario:\nDomingo a Jueves: 9:00 am a 6:00 pm.\nRecesos: 11:00 a 11:30 am\, 1:30 a 3:00 pm y 4:30 a 5:00 pm.\nViernes: hasta las 2:00 pm. \n📍(Modalidad Presencial)\nLima\, Perú\nAv. Javier Prado Este 175 Int. 1403 San Isidro LIMA 27\, San Isidro 15046\, Peru Torre Tekton\nhttps://maps.app.goo.gl/dFWuo4fgxpW7gPAB9 \n🎁 Beneficios Incluidos\nMaterial digital y videos informativos.\nUn libro de obsequio.\nConstancia de asistencia. \n📖 Temario\nEl curso cubre los fundamentos y la aplicación práctica de la técnica\, incluyendo:\nIntroducción y fundamentos científicos.\nMetodología del rastreo.\nEstudio de Pares Biomagnéticos para: Virus\, Bacterias\, Hongos\, Parásitos\, etc.\nEnfoque en temas como SIDA y Cáncer.\nPrácticas clínicas. \n📜 Requisitos de Inscripción\nLlenar formulario de registro.\nComprobante de estudios (del último grado escolar cursado).\nIdentificación oficial (INE\, pasaporte\, etc.).\nFotografía digital para la constancia de participación. \n💰 Costo\nPrecio normal: $700 dólares.\nPrecio especial: $500 dólares al realizar la inscripción antes del 20 de enero de 2026. \n\n🧲Prácticas presenciales y online:\nSe invita a los asistentes a participar en las sesiones prácticas de Par Biomagnético\, que se llevarán a cabo durante la última semana de cada mes.\nEstas prácticas son fundamentales para perfeccionar la técnica\, resolver dudas y corregir posibles errores en su aplicación. Se revisarán diversos escenarios y casos clínicos con la guía de un instructor certificado\, lo que permitirá consolidar el aprendizaje y mejorar la precisión en el tratamiento. \nInversión: $600 MXN (pesos mexicanos) por semana. \n*Para garantizar su lugar\, es necesario confirmar asistencia con anticipación.\n**Aunque las prácticas no son obligatorias\, se recomiendan ampliamente para obtener mejores resultados en la aplicación del método.
URL:http://www.escuelaisaacgoiz.com/event/curso-par-biomagnetico-primer-nivel-isaac-goiz-martinez-peru-febrero-2026/
LOCATION:Perú\, Av. Javier Prado Este 175 Int. 1403 San Isidro LIMA 27\, Lima\, San Isidro\, 15046\, Peru
ATTACH;FMTTYPE=image/jpeg:http://www.escuelaisaacgoiz.com/wp-content/uploads/2025/11/Banner-MG-6.jpg
ORGANIZER;CN="Servicios Acad%C3%A9micos":MAILTO:serviciosacademicos@escuelaisaacgoiz.com
END:VEVENT
END:VCALENDAR