BEGIN:VCALENDAR
VERSION:2.0
PRODID:-//Escuela Superior de Biomagnetismo Médico - ECPv6.15.20//NONSGML v1.0//EN
CALSCALE:GREGORIAN
METHOD:PUBLISH
X-ORIGINAL-URL:http://www.escuelaisaacgoiz.com
X-WR-CALDESC:Eventos para Escuela Superior de Biomagnetismo Médico
REFRESH-INTERVAL;VALUE=DURATION:PT1H
X-Robots-Tag:noindex
X-PUBLISHED-TTL:PT1H
BEGIN:VTIMEZONE
TZID:UTC
BEGIN:STANDARD
TZOFFSETFROM:+0000
TZOFFSETTO:+0000
TZNAME:UTC
DTSTART:20250101T000000
END:STANDARD
END:VTIMEZONE
BEGIN:VEVENT
DTSTART;TZID=UTC:20260225T090000
DTEND;TZID=UTC:20260301T180000
DTSTAMP:20260424T034112
CREATED:20251217T204229Z
LAST-MODIFIED:20251217T204229Z
UID:10333-1772010000-1772388000@www.escuelaisaacgoiz.com
SUMMARY:Reserva Curso acreditado de Biomagnetismo y Par Biomagnético Benicasim 1er Nivel - impartido por Dr José Moreno 2026
DESCRIPTION:Ciudad: Benicasim \, Valencia\nDias: 25\, 26\, 27\, 28 febrero y 1 Marzo 2026\nHorario: 9hrs – 18hrs (Incluye descansos para café y comidas) Domingo termina a las 14hrs. \nTorre Voramar\, enfrente del hotel Voramar\nPaseo Pilar Coloma 1\nAforo: máximo 25  personas. \nEste curso incluye  por:\n✅ Curso intensivo de 40 horas con la teoría original y practicas en donde serás tratado con imanes y por el profesor y tu trataras a tus compañeros instruidos por el profesor.\n\n✅ Manual-cuaderno del profesor de 300 paginas ilustrado con los órganos y puntos a color\n\n✅ El Libro original del Dr Isaac Goiz “El Par Biomagnetico” (la Biblia del Par Bio)\n✅ Grupo Whats app del curso con el profesor por 3 años para asistencia y conexión del grupo.\n\n✅ Una camilla por cada 3 alumnos para practicas\n✅ Un Par de imanes skuers® de regalo.\n\n✅ Certificado por la Escuela Goiz (se envía desde mexico firmado por el rector y se entrega al finalizar formación)\n\n\n\n\n\n\n\nOpción Alojamiento:\n:  https://voramar.net/ . \n(Posibilidad de recoger gente en las estación de Castellón y Benicasim) \nEste curso esta conformado por: \nCertificado: Elaborado\, firmado y sellado por la Escuela Superior de Biomagnetismo Médico Isaac Goiz Durán.\nLibro: Manual del Biomagnetista y Guía de Pares nivel 1 del Dr David Goiz Martínez\,  y materiales del profesor\nImanes: 1 pares de imanes Skuers®\nTeoría : 60%\nPracticas: 40% (una camilla por cada 4 alumnos)\nPausas: 2 al día y para la comida \n\nPrecio del curso –\nReserva antes del 20 de enero 2026 : 1100€\ndespués: 1250€\n* Esta reserva se deducirá del costo total del curso.\n* El pago total del curso lo deberá efectuar en el registro el día del curso.\n* Una ves efectuada su reserva deberá completar su ficha de alumno a la cual ingresara por medio del enlace personal que le llegara en el correo de confirmación del pedido.\n* La fecha limite para recibir la cancelación de su reserva será el 10 días antes del inicio del curso\, pasada esta fecha no se retornara el pago de las reservas.\n* 1 reserva máximo por persona por lo que las reservas se deben de hacer por separado.
URL:http://www.escuelaisaacgoiz.com/event/reserva-curso-acreditado-de-biomagnetismo-y-par-biomagnetico-benicasim-1er-nivel-impartido-por-dr-jose-moreno-2026/
LOCATION:Valencia\, Spain
ATTACH;FMTTYPE=image/png:http://www.escuelaisaacgoiz.com/wp-content/uploads/2025/12/Cursos-2024-12.png
ORGANIZER;CN="Skuers":MAILTO:contacto@skuers.com
END:VEVENT
END:VCALENDAR