BEGIN:VCALENDAR
VERSION:2.0
PRODID:-//Escuela Superior de Biomagnetismo Médico - ECPv6.15.20//NONSGML v1.0//EN
CALSCALE:GREGORIAN
METHOD:PUBLISH
X-ORIGINAL-URL:http://www.escuelaisaacgoiz.com
X-WR-CALDESC:Eventos para Escuela Superior de Biomagnetismo Médico
REFRESH-INTERVAL;VALUE=DURATION:PT1H
X-Robots-Tag:noindex
X-PUBLISHED-TTL:PT1H
BEGIN:VTIMEZONE
TZID:UTC
BEGIN:STANDARD
TZOFFSETFROM:+0000
TZOFFSETTO:+0000
TZNAME:UTC
DTSTART:20250101T000000
END:STANDARD
END:VTIMEZONE
BEGIN:VEVENT
DTSTART;TZID=UTC:20260319T170000
DTEND;TZID=UTC:20260319T190000
DTSTAMP:20260424T034211
CREATED:20251218T160940Z
LAST-MODIFIED:20251218T161119Z
UID:10350-1773939600-1773946800@www.escuelaisaacgoiz.com
SUMMARY:MasterClass Física Zeferino Martínez CDMX Marzo 2026
DESCRIPTION:“Influencia en la intensidad y tamaño de imanes en la terapia de Par Biomagnético” \n\n Instructor: Dr. Zeferino Martínez\n Fecha: Jueves 19 de marzo 2026\n Horario: 5:00 pm a 7:00 pm (Hora CDMX)\n Modalidad: Presencial y Online\n Idioma: Español\n Sede: Ciudad de México | Avenida Insurgentes Norte #1865 Col. Tepeyac Insurgentes C.P. 07020 CDMX Alcaldía G.A.M.\nEscuela Superior de Biomagnetismo “Isaac Goiz Durán”\nhttps://maps.app.goo.gl/1hh8kdgvJwnczqiC8 \n\n\n\n🎁Incluye:\n Material digital\n Grabación de la clase\n Constancia de asistencia\n\n\n\n💰 Costo\nPrecio normal: $500 MXN.\nPrecio especial para alumnos: $350 MXN .
URL:http://www.escuelaisaacgoiz.com/event/masterclass-fisica-zeferino-martinez-cdmx-marzo-2026/
LOCATION:Escuela Superior de Biomagnetismo\, Avenida Insurgentes Norte #1865 Col. Tepeyac Insurgentes\, CDMX\, CDMX\, 07020\, Mexico
ATTACH;FMTTYPE=image/jpeg:http://www.escuelaisaacgoiz.com/wp-content/uploads/2025/12/3-scaled.jpg
ORGANIZER;CN="Servicios Acad%C3%A9micos":MAILTO:serviciosacademicos@escuelaisaacgoiz.com
END:VEVENT
END:VCALENDAR