BEGIN:VCALENDAR
VERSION:2.0
PRODID:-//Escuela Superior de Biomagnetismo Médico - ECPv6.15.20//NONSGML v1.0//EN
CALSCALE:GREGORIAN
METHOD:PUBLISH
X-WR-CALNAME:Escuela Superior de Biomagnetismo Médico
X-ORIGINAL-URL:http://www.escuelaisaacgoiz.com
X-WR-CALDESC:Eventos para Escuela Superior de Biomagnetismo Médico
REFRESH-INTERVAL;VALUE=DURATION:PT1H
X-Robots-Tag:noindex
X-PUBLISHED-TTL:PT1H
BEGIN:VTIMEZONE
TZID:UTC
BEGIN:STANDARD
TZOFFSETFROM:+0000
TZOFFSETTO:+0000
TZNAME:UTC
DTSTART:20250101T000000
END:STANDARD
END:VTIMEZONE
BEGIN:VEVENT
DTSTART;TZID=UTC:20260420T090000
DTEND;TZID=UTC:20260424T180000
DTSTAMP:20260423T171605
CREATED:20260121T185435Z
LAST-MODIFIED:20260122T200904Z
UID:10493-1776675600-1777053600@www.escuelaisaacgoiz.com
SUMMARY:Curso Par Biomagnético Primer Nivel Moisés Goiz CDMX Abril 2026
DESCRIPTION:📌 Curso de Par Biomagnético\n¿Qué es el Par Biomagnético?\nEs una técnica terapéutica desarrollada por el Dr. Isaac Goiz Durán. Utiliza imanes en puntos específicos del cuerpo para ayudar a recuperar el equilibrio y bienestar general. Es un método integrativo y no invasivo. \n📘 Detalles del Curso (Primer Nivel)\n📅 Fecha: 20 al 24 de Abril de 2026.\n👨‍🏫 Instructor: Moisés Goiz Martínez.\n🌐 Modalidad: Presencial y Online.\n⏳ Duración: 5 días. \n🕘 Horario:\nLunes a Jueves: 9:00 am a 6:00 pm.\nRecesos: 11:00 a 11:30 am\, 1:30 a 3:00 pm y 4:30 a 5:00 pm.\nViernes: hasta las 2:00 pm. \n📍(Modalidad Presencial)\nEscuela Superior de Biomagnetismo Médico\nAv. Insurgentes Norte #1865\, Col. Tepeyac Insurgentes\, CDMX.\nhttps://maps.app.goo.gl/1hh8kdgvJwnczqiC8 \n💻(Modalidad Online)\nTransmisión por Zoom (en vivo) \n🎁 Beneficios Incluidos:\nMaterial digital y videos informativos.\nAcceso a las grabaciones del curso por 2 semanas.\nUn libro de obsequio. (Formato digital en modalidad online)\nConstancia de asistencia. (Formato digital en modalidad online) \n📖 Temario:\nEl curso cubre los fundamentos y la aplicación práctica de la técnica\, incluyendo:\nIntroducción y fundamentos científicos.\nMetodología del rastreo.\nEstudio de Pares Biomagnéticos para: Virus\, Bacterias\, Hongos\, Parásitos\, etc.\nPrácticas clínicas. \n📜 Requisitos de Inscripción:\nLlenar formulario de registro.\nComprobante de estudios (del último grado escolar cursado).\nIdentificación oficial (INE\, pasaporte\, etc.).\nFotografía digital para la constancia de participación. \n💰 Costo:\nPrecio normal: $12\,500 MXN. (pesos mexicanos)\nPrecio especial: $10\,000 MXN (pesos mexicanos) al realizar la inscripción antes del 10 de abril de 2026. \n\n🧲Prácticas presenciales y online:\nSe invita a los asistentes a participar en las sesiones prácticas de Par Biomagnético\, que se llevarán a cabo durante la última semana de cada mes.\nEstas prácticas son fundamentales para perfeccionar la técnica\, resolver dudas y corregir posibles errores en su aplicación. Se revisarán diversos escenarios y casos clínicos con la guía de un instructor certificado\, lo que permitirá consolidar el aprendizaje y mejorar la precisión en el tratamiento. \nInversión: $600 MXN (pesos mexicanos) por semana. \n📍(Modalidad Presencial)\nEscuela Superior de Biomagnetismo Médico\nAv. Insurgentes Norte #1865\, Col. Tepeyac Insurgentes\, CDMX.\nhttps://maps.app.goo.gl/1hh8kdgvJwnczqiC8 \n💻(Modalidad Online)\nTransmisión por Zoom (en vivo) \n*Para garantizar su lugar\, es necesario confirmar asistencia con anticipación.\n**Aunque las prácticas no son obligatorias\, se recomiendan ampliamente para obtener mejores resultados en la aplicación del método.
URL:http://www.escuelaisaacgoiz.com/event/curso-par-biomagnetico-primer-nivel-moises-goiz-cdmx-abril-2026/
LOCATION:Escuela Superior de Biomagnetismo\, Avenida Insurgentes Norte #1865 Col. Tepeyac Insurgentes\, CDMX\, CDMX\, 07020\, Mexico
ATTACH;FMTTYPE=image/jpeg:http://www.escuelaisaacgoiz.com/wp-content/uploads/2026/01/Black-and-Blue-Modern-Chiropractic-Therapy-Clinic-Instagram-Story-Post-para-Facebook-1-1.jpg
ORGANIZER;CN="Servicios Acad%C3%A9micos":MAILTO:serviciosacademicos@escuelaisaacgoiz.com
END:VEVENT
BEGIN:VEVENT
DTSTART;TZID=UTC:20260427T000000
DTEND;TZID=UTC:20260427T235959
DTSTAMP:20260423T171605
CREATED:20260420T151538Z
LAST-MODIFIED:20260420T155723Z
UID:10881-1777248000-1777334399@www.escuelaisaacgoiz.com
SUMMARY:Curso Segundo Nivel Bioenergética Mayo 2026 Moisés Goiz Online
DESCRIPTION:La bioenergética es una técnica complementaria al Par Biomagnético que permite realizar rastreos acelerados\, gracias al uso de nuestras propias conexiones neuronales. Es muy útil tanto para hacer los rastreos más rápidamente\, como para explorar otros ámbitos relacionados con las enfermedades\, como aspectos psicológicos\, emocionales\, alergias e intoxicación\, entre otros. Este curso te permitirá acceder al aprendizaje del método de Bioenergética con la metodología innovadora y didáctica que caracterizan los cursos del Dr. H.C. Moisés Goiz\, además de una calidad inigualable. \nLo que aprenderás\n\nConocerás los aspectos científicos (conexiones neuronales\, neuronas espejo\, radio frecuencia y mecánica cuántica) que sustentan un método tan complejo como la bioenergética.\nComprenderás los conceptos de física cuántica\, aspectos neurológicos y biológicos que sustentan la técnica de la bioenergética.\nEntenderás la importancia de los principios que regulan la bioenergética para realizar un rastreo realista y apegado a las normas.\nAprenderás nuevos pares biomagnéticos para resolver problemas de salud más complicados y complementarios a los de primer nivel.\nAprenderás a revisar con bioenergética otra clase de aspectos como son los aspectos psicológicos\, emocionales\, sofrológicos\, espirituales\, carenciales\, de intoxicación y envenenamiento.\nAl finalizar el curso\, podrás realizar una sesión de primer y segundo nivel usando las habilidades inconscientes de tu propio cerebro\, en sustitución de un imán rastreador.\n\nPara descargar el folleto en PDF\, da clic aquí.
URL:http://www.escuelaisaacgoiz.com/event/curso-segundo-nivel-bioenergetica-mayo-2026-moises-goiz-online/
ATTACH;FMTTYPE=image/jpeg:http://www.escuelaisaacgoiz.com/wp-content/uploads/2026/04/672676913_1489228935897011_3563693149925275582_n.jpg
ORGANIZER;CN="Mois%C3%A9s Goiz":MAILTO:info@moisesgoiz.com
END:VEVENT
BEGIN:VEVENT
DTSTART;TZID=UTC:20260427T090000
DTEND;TZID=UTC:20260501T180000
DTSTAMP:20260423T171605
CREATED:20260121T190718Z
LAST-MODIFIED:20260212T194729Z
UID:10500-1777280400-1777658400@www.escuelaisaacgoiz.com
SUMMARY:Curso Par Biomagnético Primer Nivel Isaac Goiz Martínez Panamá Abril 2026
DESCRIPTION:📌 Curso de Par Biomagnético\n¿Qué es el Par Biomagnético?\nEs una técnica terapéutica desarrollada por el Dr. Isaac Goiz Durán. Utiliza imanes en puntos específicos del cuerpo para ayudar a recuperar el equilibrio y bienestar general. Es un método integrativo y no invasivo. \n📘 Detalles del Curso (Primer Nivel)\n📅 Fecha: 27 Abril al 1 de Mayo de 2026.\n👨‍🏫 Instructor: Dr. h.c. Isaac Goiz Martínez.\n🌐 Modalidad: Presencial.\n⏳ Duración: 5 días. \n🕘 Horario:\nLunes a jueves: 9:00 am a 6:00 pm.\nRecesos: 11:00 a 11:30 am\, 1:30 a 3:00 pm y 4:30 a 5:00 pm.\nViernes: hasta las 2:00 pm. \n📍(Modalidad Presencial)\nPanamá \n🎁 Beneficios Incluidos\nMaterial digital y videos informativos.\nUn libro de obsequio.\nConstancia de asistencia. \n📖 Temario\nEl curso cubre los fundamentos y la aplicación práctica de la técnica\, incluyendo:\nIntroducción y fundamentos científicos.\nMetodología del rastreo.\nEstudio de Pares Biomagnéticos para: Virus\, Bacterias\, Hongos\, Parásitos\, etc.\nEnfoque en temas como SIDA y Cáncer.\nPrácticas clínicas. \n📜 Requisitos de Inscripción\nLlenar formulario de registro.\nComprobante de estudios (del último grado escolar cursado).\nIdentificación oficial (INE\, pasaporte\, etc.).\nFotografía digital para la constancia de participación. \n💰 Costo:\nPrecio normal: $700 USD. (dólares)\nPrecio especial: $500 USD (dólares) al realizar la inscripción antes del 15 de abril de 2026.
URL:http://www.escuelaisaacgoiz.com/event/curso-par-biomagnetico-primer-nivel-isaac-goiz-martinez-panama-abril-2026/
LOCATION:Panamá\, Panama
ATTACH;FMTTYPE=image/jpeg:http://www.escuelaisaacgoiz.com/wp-content/uploads/2026/01/Banner-MG-4.jpg
ORGANIZER;CN="Servicios Acad%C3%A9micos":MAILTO:serviciosacademicos@escuelaisaacgoiz.com
END:VEVENT
BEGIN:VEVENT
DTSTART;TZID=UTC:20260511T090000
DTEND;TZID=UTC:20260515T180000
DTSTAMP:20260423T171605
CREATED:20260121T190037Z
LAST-MODIFIED:20260212T193804Z
UID:10496-1778490000-1778868000@www.escuelaisaacgoiz.com
SUMMARY:Curso Par Biomagnético Primer Nivel Isaac Goiz Martínez Colombia Mayo 2026
DESCRIPTION:📌 Curso de Par Biomagnético\n¿Qué es el Par Biomagnético?\nEs una técnica terapéutica desarrollada por el Dr. Isaac Goiz Durán. Utiliza imanes en puntos específicos del cuerpo para ayudar a recuperar el equilibrio y bienestar general. Es un método integrativo y no invasivo. \n📘 Detalles del Curso (Primer Nivel)\n📅 Fecha: 11 al 15 de Mayo de 2026.\n👨‍🏫 Instructor: Dr. h.c. Isaac Goiz Martínez.\n🌐 Modalidad: Presencial.\n⏳ Duración: 5 días. \n🕘 Horario:\nLunes a Jueves: 9:00 am a 6:00 pm.\nRecesos: 11:00 a 11:30 am\, 1:30 a 3:00 pm y 4:30 a 5:00 pm.\nViernes: hasta las 2:00 pm. \n📍(Modalidad Presencial)\nColombia \n🎁 Beneficios Incluidos\nMaterial digital y videos informativos.\nUn libro de obsequio.\nConstancia de asistencia. \n📖 Temario\nEl curso cubre los fundamentos y la aplicación práctica de la técnica\, incluyendo:\nIntroducción y fundamentos científicos.\nMetodología del rastreo.\nEstudio de Pares Biomagnéticos para: Virus\, Bacterias\, Hongos\, Parásitos\, etc.\nEnfoque en temas como SIDA y Cáncer.\nPrácticas clínicas. \n📜 Requisitos de Inscripción\nLlenar formulario de registro.\nComprobante de estudios (del último grado escolar cursado).\nIdentificación oficial (INE\, pasaporte\, etc.).\nFotografía digital para la constancia de participación. \n💰 Costo:\nPrecio normal: $700 USD. (dólares)\nPrecio especial: $500 USD (dólares) al realizar la inscripción antes del 30 de abril de 2026.
URL:http://www.escuelaisaacgoiz.com/event/curso-par-biomagnetico-primer-nivel-isaac-goiz-martinez-colombia-mayo-2026/
LOCATION:Colombia\, Colombia
ATTACH;FMTTYPE=image/jpeg:http://www.escuelaisaacgoiz.com/wp-content/uploads/2026/01/Banner-MG-1-1-scaled.jpg
ORGANIZER;CN="Servicios Acad%C3%A9micos":MAILTO:serviciosacademicos@escuelaisaacgoiz.com
END:VEVENT
BEGIN:VEVENT
DTSTART;TZID=UTC:20260525T090000
DTEND;TZID=UTC:20260529T180000
DTSTAMP:20260423T171605
CREATED:20260121T191702Z
LAST-MODIFIED:20260121T191837Z
UID:10504-1779699600-1780077600@www.escuelaisaacgoiz.com
SUMMARY:Curso Par Biomagnético Primer Nivel Isaac Goiz Martínez CDMX Mayo 2026
DESCRIPTION:📌 Curso de Par Biomagnético\n¿Qué es el Par Biomagnético?\nEs una técnica terapéutica desarrollada por el Dr. Isaac Goiz Durán. Utiliza imanes en puntos específicos del cuerpo para ayudar a recuperar el equilibrio y bienestar general. Es un método integrativo y no invasivo. \n📘 Detalles del Curso (Primer Nivel)\n📅 Fecha: 25 al 29 de Mayo de 2026.\n👨‍🏫 Instructor: Dr. h.c. Isaac Goiz Martínez.\n🌐 Modalidad: Presencial y Online.\n⏳ Duración: 5 días. \n🕘 Horario:\nLunes a Jueves: 9:00 am a 6:00 pm.\nRecesos: 11:00 a 11:30 am\, 1:30 a 3:00 pm y 4:30 a 5:00 pm.\nViernes: hasta las 2:00 pm. \n📍(Modalidad Presencial)\nEscuela Superior de Biomagnetismo Médico\nAv. Insurgentes Norte #1865\, Col. Tepeyac Insurgentes\, CDMX.\nhttps://maps.app.goo.gl/1hh8kdgvJwnczqiC8 \n💻(Modalidad Online)\nTransmisión por Zoom (en vivo) \n🎁 Beneficios Incluidos\nMaterial digital y videos informativos.\nAcceso a las grabaciones del curso por 2 semanas.\nUn libro de obsequio. (Formato digital en modalidad online)\nConstancia de asistencia. (Formato digital en modalidad online) \n📖 Temario\nEl curso cubre los fundamentos y la aplicación práctica de la técnica\, incluyendo:\nIntroducción y fundamentos científicos.\nMetodología del rastreo.\nEstudio de Pares Biomagnéticos para: Virus\, Bacterias\, Hongos\, Parásitos\, etc.\nEnfoque en temas como SIDA y Cáncer.\nPrácticas clínicas. \n📜 Requisitos de Inscripción\nLlenar formulario de registro.\nComprobante de estudios (del último grado escolar cursado).\nIdentificación oficial (INE\, pasaporte\, etc.).\nFotografía digital para la constancia de participación. \n💰 Costo\nPrecio normal: $12\,500 MXN. (pesos mexicanos)\nPrecio especial: $10\,000 MXN (pesos mexicanos) al realizar la inscripción antes del 15 de mayo de 2026. \n\n🧲Prácticas presenciales y online:\nSe invita a los asistentes a participar en las sesiones prácticas de Par Biomagnético\, que se llevarán a cabo durante la última semana de cada mes.\nEstas prácticas son fundamentales para perfeccionar la técnica\, resolver dudas y corregir posibles errores en su aplicación. Se revisarán diversos escenarios y casos clínicos con la guía de un instructor certificado\, lo que permitirá consolidar el aprendizaje y mejorar la precisión en el tratamiento. \nInversión: $600 MXN (pesos mexicanos) por semana. \n*Para garantizar su lugar\, es necesario confirmar asistencia con anticipación.\n**Aunque las prácticas no son obligatorias\, se recomiendan ampliamente para obtener mejores resultados en la aplicación del método.
URL:http://www.escuelaisaacgoiz.com/event/curso-par-biomagnetico-primer-nivel-isaac-goiz-martinez-cdmx-mayo-2026/
LOCATION:Escuela Superior de Biomagnetismo\, Avenida Insurgentes Norte #1865 Col. Tepeyac Insurgentes\, CDMX\, CDMX\, 07020\, Mexico
ATTACH;FMTTYPE=image/jpeg:http://www.escuelaisaacgoiz.com/wp-content/uploads/2026/01/Banner-MG-5.jpg
ORGANIZER;CN="Servicios Acad%C3%A9micos":MAILTO:serviciosacademicos@escuelaisaacgoiz.com
END:VEVENT
BEGIN:VEVENT
DTSTART;TZID=UTC:20260606T090000
DTEND;TZID=UTC:20260609T180000
DTSTAMP:20260423T171605
CREATED:20260121T204719Z
LAST-MODIFIED:20260212T194437Z
UID:10512-1780736400-1781028000@www.escuelaisaacgoiz.com
SUMMARY:Curso Par Biomagnético Segundo Nivel Isaac Goiz Martínez Colombia Junio 2026
DESCRIPTION:📌 Curso de Par Biomagnético\n¿Qué es el Par Biomagnético?\nEs una técnica terapéutica desarrollada por el Dr. Isaac Goiz Durán. Utiliza imanes en puntos específicos del cuerpo para ayudar a recuperar el equilibrio y bienestar general. Es un método integrativo y no invasivo. \n📗 Detalles del Curso (Segundo Nivel)\n📅 Fecha: 6 al 9 de Junio de 2026.\n👨‍🏫 Instructor: Dr. h.c. Isaac Goiz Martínez.\n🌐 Modalidad: Presencial.\n⏳ Duración: 5 días. \n🕘 Horario:\nLunes a Jueves: 9:00 am a 6:00 pm.\nRecesos: 11:00 a 11:30 am\, 1:30 a 3:00 pm y 4:30 a 5:00 pm.\nViernes: hasta las 2:00 pm. \n📍(Modalidad Presencial)\nColombia \n🎁 Beneficios Incluidos\nMaterial digital y videos informativos.\nDiploma de asistencia. \n📜 Requisitos de Inscripción\nLlenar formulario de registro.\nConstancia de primer nivel.\nComprobante de estudios (del último grado escolar cursado).\nIdentificación oficial (INE\, pasaporte\, etc.).\nFotografía digital para la constancia de participación. \n💰 Costo:\nPrecio normal: $700 USD. (dólares)\nPrecio especial: $500 USD (dólares) al realizar la inscripción antes del 16 de mayo de 2026.
URL:http://www.escuelaisaacgoiz.com/event/curso-par-biomagnetico-segundo-nivel-isaac-goiz-martinez-colombia-junio-2026/
LOCATION:Colombia\, Colombia
ATTACH;FMTTYPE=image/jpeg:http://www.escuelaisaacgoiz.com/wp-content/uploads/2026/01/Banner-MG-2-1-scaled.jpg
ORGANIZER;CN="Servicios Acad%C3%A9micos":MAILTO:serviciosacademicos@escuelaisaacgoiz.com
END:VEVENT
BEGIN:VEVENT
DTSTART;TZID=UTC:20260608T080000
DTEND;TZID=UTC:20260612T170000
DTSTAMP:20260423T171605
CREATED:20260121T193817Z
LAST-MODIFIED:20260121T212852Z
UID:10507-1780905600-1781283600@www.escuelaisaacgoiz.com
SUMMARY:Curso Par Biomagnético Enfoque Veterinario Plácido Vega CDMX Junio 2026
DESCRIPTION:📌 Curso de Par Biomagnético \n¿Qué es el Par Biomagnético?\nEs una técnica terapéutica desarrollada por el Dr. Isaac Goiz Durán. Utiliza imanes en puntos específicos del cuerpo para ayudar a recuperar el equilibrio y bienestar general. Es un método integrativo y no invasivo. \n📘 Detalles del Curso (Enfoque veterinario)\n📅 Fecha: 8 al 12 de Junio de 2026.\n👨‍🏫 Instructor: MVZ Plácido Vega Pérez.\n🌐 Modalidad: Presencial y Online.\n⏳ Duración: 5 días. \n🕘 Horario:\nLunes a Jueves: 9:00 am a 6:00 pm.\nRecesos: 11:00 a 11:30 am\, 1:30 a 3:00 pm y 4:30 a 5:00 pm.\nViernes: hasta las 2:00 pm. \n📍(Modalidad Presencial)\nEscuela Superior de Biomagnetismo Médico\nAv. Insurgentes Norte #1865\, Col. Tepeyac Insurgentes\, CDMX.\nhttps://maps.app.goo.gl/1hh8kdgvJwnczqiC8 \n💻(Modalidad Online)\nTransmisión por Zoom (en vivo) \n¿Qué aprenderás?\n🧬 Fundamentos del par biomagnético aplicado a especies animales.\n📋 Protocolos y tratamiento de patologías comunes.\n🧲 Manejo de imanes y técnicas específicas en pequeños y grandes animales.\n🩺 Casos clínicos reales y prácticas supervisadas. \n🎁 Beneficios Incluidos:\nMaterial digital y videos informativos.\nAcceso a las grabaciones del curso por 2 semanas.\nManual de obsequio. (Formato digital en modalidad online)\nConstancia de asistencia. (Formato digital en modalidad online) \n📜 Requisitos de Inscripción:\nLlenar formulario de registro.\nConstancia de primer o segundo nivel.\nComprobante de estudios (del último grado escolar cursado).\nIdentificación oficial (INE\, pasaporte\, etc.).\nFotografía digital para la constancia de participación. \n💰 Costo:\nPrecio normal: $12\,500 MXN. (pesos mexicanos)\nPrecio especial: $10\,000 MXN (pesos mexicanos) al realizar la inscripción antes del 1 de junio de 2026.
URL:http://www.escuelaisaacgoiz.com/event/curso-par-biomagnetico-enfoque-veterinario-placido-vega-cdmx-junio-2026/
LOCATION:Escuela Superior de Biomagnetismo\, Avenida Insurgentes Norte #1865 Col. Tepeyac Insurgentes\, CDMX\, CDMX\, 07020\, Mexico
ATTACH;FMTTYPE=image/jpeg:http://www.escuelaisaacgoiz.com/wp-content/uploads/2026/01/Cursos-2024.jpg
ORGANIZER;CN="Servicios Acad%C3%A9micos":MAILTO:serviciosacademicos@escuelaisaacgoiz.com
END:VEVENT
BEGIN:VEVENT
DTSTART;TZID=UTC:20260615T090000
DTEND;TZID=UTC:20260619T180000
DTSTAMP:20260423T171605
CREATED:20260121T210344Z
LAST-MODIFIED:20260128T190756Z
UID:10515-1781514000-1781892000@www.escuelaisaacgoiz.com
SUMMARY:Curso Par Biomagnético Segundo Nivel Isaac Goiz Martínez CDMX Junio 2026
DESCRIPTION:📌 Curso de Par Biomagnético\n¿Qué es el Par Biomagnético?\nEs una técnica terapéutica desarrollada por el Dr. Isaac Goiz Durán. Utiliza imanes en puntos específicos del cuerpo para ayudar a recuperar el equilibrio y bienestar general. Es un método integrativo y no invasivo. \n📗 Detalles del Curso (Segundo Nivel)\n📅 Fecha: 15 al 19 de Junio de 2026.\n👨‍🏫 Instructor: Dr. h.c. Isaac Goiz Martínez.\n🌐 Modalidad: Presencial y Online.\n⏳ Duración: 5 días. \n🕘 Horario:\nLunes a Jueves: 9:00 am a 6:00 pm.\nRecesos: 11:00 a 11:30 am\, 1:30 a 3:00 pm y 4:30 a 5:00 pm.\nViernes: hasta las 2:00 pm. \n📍(Modalidad Presencial)\nEscuela Superior de Biomagnetismo Médico\nAv. Insurgentes Norte #1865\, Col. Tepeyac Insurgentes\, CDMX.\nhttps://maps.app.goo.gl/1hh8kdgvJwnczqiC8 \n💻(Modalidad Online)\nTransmisión por Zoom (en vivo) \n🎁 Beneficios Incluidos:\nMaterial digital y videos informativos.\nAcceso a las grabaciones del curso por 2 semanas.\nDiploma de asistencia. (Formato digital en modalidad online) \n📜 Requisitos de Inscripción\nLlenar formulario de registro.\nConstancia de primer nivel.\nComprobante de estudios (del último grado escolar cursado).\nIdentificación oficial (INE\, pasaporte\, etc.).\nFotografía digital para la constancia de participación. \n💰 Costo:\nPrecio normal: $12\,500 MXN. (pesos mexicanos)\nPrecio especial: $10\,000 MXN (pesos mexicanos) al realizar la inscripción antes del 1 de junio de 2026. \n\n🧲Prácticas presenciales y online:\nSe invita a los asistentes a participar en las sesiones prácticas de Par Biomagnético\, que se llevarán a cabo durante la última semana de cada mes.\nEstas prácticas son fundamentales para perfeccionar la técnica\, resolver dudas y corregir posibles errores en su aplicación. Se revisarán diversos escenarios y casos clínicos con la guía de un instructor certificado\, lo que permitirá consolidar el aprendizaje y mejorar la precisión en el tratamiento. \nInversión: $600 MXN (pesos mexicanos) por semana. \n*Para garantizar su lugar\, es necesario confirmar asistencia con anticipación.\n**Aunque las prácticas no son obligatorias\, se recomiendan ampliamente para obtener mejores resultados en la aplicación del método.
URL:http://www.escuelaisaacgoiz.com/event/curso-par-biomagnetico-segundo-nivel-isaac-goiz-martinez-cdmx-junio-2026/
LOCATION:Escuela Superior de Biomagnetismo\, Avenida Insurgentes Norte #1865 Col. Tepeyac Insurgentes\, CDMX\, CDMX\, 07020\, Mexico
ATTACH;FMTTYPE=image/jpeg:http://www.escuelaisaacgoiz.com/wp-content/uploads/2026/01/Banner-MG-1.jpg
ORGANIZER;CN="Servicios Acad%C3%A9micos":MAILTO:serviciosacademicos@escuelaisaacgoiz.com
END:VEVENT
BEGIN:VEVENT
DTSTART;TZID=UTC:20260706T090000
DTEND;TZID=UTC:20260710T180000
DTSTAMP:20260423T171605
CREATED:20260121T212049Z
LAST-MODIFIED:20260420T154415Z
UID:10521-1783328400-1783706400@www.escuelaisaacgoiz.com
SUMMARY:Curso Par Biomagnético Segundo Nivel Isaac Goiz Martínez Guadalajara Julio 2026
DESCRIPTION:📌 Curso de Par Biomagnético\n¿Qué es el Par Biomagnético?\nEs una técnica terapéutica desarrollada por el Dr. Isaac Goiz Durán. Utiliza imanes en puntos específicos del cuerpo para ayudar a recuperar el equilibrio y bienestar general. Es un método integrativo y no invasivo. \n📗 Detalles del Curso (Segundo Nivel)\n📅 Fecha: 6 al 10 de Julio de 2026.\n👨‍🏫 Instructor: Dr. h.c. Isaac Goiz Martínez.\n🌐 Modalidad: Presencial.\n⏳ Duración: 5 días.\n\n🕘 Horario:\nLunes a Jueves: 9:00 am a 6:00 pm.\nRecesos: 11:00 a 11:30 am\, 1:30 a 3:00 pm y 4:30 a 5:00 pm.\nViernes: hasta las 2:00 pm.\n\n📍(Modalidad Presencial)\nEspacio Lago Floral\nDirección: Calle Día 2688\, Jardines del Bosque\, 44520\, Guadalajara\, Jal.\nhttps://maps.app.goo.gl/AYGr8tKbtXCaMNMq7\n\n🎁 Beneficios Incluidos:\nMaterial digital y videos informativos.\nDiploma de asistencia.\n\n📜 Requisitos de Inscripción\nLlenar formulario de registro.\nConstancia de primer nivel.\nComprobante de estudios (del último grado escolar cursado).\nIdentificación oficial (INE\, pasaporte\, etc.).\nFotografía digital para la constancia de participación.\n\n💰 Costo:\nPrecio normal: $12\,500 MXN. (pesos mexicanos)\nPrecio especial: $10\,000 MXN (pesos mexicanos) al realizar la inscripción antes del 1 de Julio de 2026.\n\n\n\n🧲Prácticas presenciales y online:\nSe invita a los asistentes a participar en las sesiones prácticas de Par Biomagnético\, que se llevarán a cabo durante la última semana de cada mes.\nEstas prácticas son fundamentales para perfeccionar la técnica\, resolver dudas y corregir posibles errores en su aplicación. Se revisarán diversos escenarios y casos clínicos con la guía de un instructor certificado\, lo que permitirá consolidar el aprendizaje y mejorar la precisión en el tratamiento.\nInversión: $600 MXN (pesos mexicanos) por semana. \n*Para garantizar su lugar\, es necesario confirmar asistencia con anticipación.\n**Aunque las prácticas no son obligatorias\, se recomiendan ampliamente para obtener mejores resultados en la aplicación del método.
URL:http://www.escuelaisaacgoiz.com/event/curso-par-biomagnetico-segundo-nivel-isaac-goiz-martinez-guadalajara-julio-2026/
LOCATION:Escuela Superior de Biomagnetismo\, Avenida Insurgentes Norte #1865 Col. Tepeyac Insurgentes\, CDMX\, CDMX\, 07020\, Mexico
ATTACH;FMTTYPE=image/jpeg:http://www.escuelaisaacgoiz.com/wp-content/uploads/2026/01/Banner-MG-8-1.jpg
ORGANIZER;CN="Servicios Acad%C3%A9micos":MAILTO:serviciosacademicos@escuelaisaacgoiz.com
END:VEVENT
END:VCALENDAR